BEGIN:VCALENDAR
VERSION:2.0
PRODID:-//HOPE Safehouse - ECPv6.15.20//NONSGML v1.0//EN
CALSCALE:GREGORIAN
METHOD:PUBLISH
X-WR-CALNAME:HOPE Safehouse
X-ORIGINAL-URL:https://hopesafehouse.org
X-WR-CALDESC:Events for HOPE Safehouse
REFRESH-INTERVAL;VALUE=DURATION:PT1H
X-Robots-Tag:noindex
X-PUBLISHED-TTL:PT1H
BEGIN:VTIMEZONE
TZID:America/Chicago
BEGIN:DAYLIGHT
TZOFFSETFROM:-0600
TZOFFSETTO:-0500
TZNAME:CDT
DTSTART:20230312T080000
END:DAYLIGHT
BEGIN:STANDARD
TZOFFSETFROM:-0500
TZOFFSETTO:-0600
TZNAME:CST
DTSTART:20231105T070000
END:STANDARD
BEGIN:DAYLIGHT
TZOFFSETFROM:-0600
TZOFFSETTO:-0500
TZNAME:CDT
DTSTART:20240310T080000
END:DAYLIGHT
BEGIN:STANDARD
TZOFFSETFROM:-0500
TZOFFSETTO:-0600
TZNAME:CST
DTSTART:20241103T070000
END:STANDARD
BEGIN:DAYLIGHT
TZOFFSETFROM:-0600
TZOFFSETTO:-0500
TZNAME:CDT
DTSTART:20250309T080000
END:DAYLIGHT
BEGIN:STANDARD
TZOFFSETFROM:-0500
TZOFFSETTO:-0600
TZNAME:CST
DTSTART:20251102T070000
END:STANDARD
END:VTIMEZONE
BEGIN:VEVENT
DTSTART;TZID=America/Chicago:20240127T110000
DTEND;TZID=America/Chicago:20240127T150000
DTSTAMP:20260423T161910
CREATED:20240119T150319Z
LAST-MODIFIED:20240119T150319Z
UID:10000023-1706353200-1706367600@hopesafehouse.org
SUMMARY:Puppy Meet and Greet
DESCRIPTION:📣Please share!\n🐾Puppy Meet and Greet🐾 \nCome and meet some of our adoptable puppys and adult dog at the Racine Petco on Saturday 1/27/24 from 11am-3pm!! The store is doing 20% for any donation purchases to HOPE!!
URL:https://hopesafehouse.org/event/puppy-meet-and-greet/
LOCATION:Petco\, 3059 S. Oaks Rd.\, Sturtevant\, WI\, 53177\, US
ATTACH;FMTTYPE=image/jpeg:https://hopesafehouse.org/wp-content/uploads/2024/01/12260_image_419227520_768792888620151_7912594903097824669_n.jpg
END:VEVENT
END:VCALENDAR